BEGIN:VCALENDAR
VERSION:2.0
PRODID:-//Straatrommelmarkten in Alkmaar en andere plaatsen//NONSGML kigkon
 sult.se iCalcreator 2.30.10//
CALSCALE:GREGORIAN
METHOD:PUBLISH
UID:301c5887-b904-44e4-b76a-253312fd8f2e
X-WR-CALNAME:iCagenda
X-WR-CALDESC:Event Management Extension for Joomla!
X-WR-RELCALID:3E26604A-50F4-4449-8B3E-E4F4932D05B5
X-WR-TIMEZONE:Europe/Amsterdam
BEGIN:VTIMEZONE
TZID:Europe/Amsterdam
BEGIN:STANDARD
TZNAME:CET
DTSTART:20251026T030000
TZOFFSETFROM:+0200
TZOFFSETTO:+0100
RDATE:20261025T030000
END:STANDARD
BEGIN:DAYLIGHT
TZNAME:CEST
DTSTART:20260329T020000
TZOFFSETFROM:+0100
TZOFFSETTO:+0200
RDATE:20270328T020000
END:DAYLIGHT
END:VTIMEZONE
BEGIN:VEVENT
UID:2ca1ac83-769d-417c-bcaa-5a41fb6fcc46
DTSTAMP:20260421T113529Z
CATEGORIES:Straatrommelmarkt Alkmaar
CLASS:PUBLIC
DESCRIPTION:
DTSTART:20260419T070000Z
DTEND:20260419T120000Z
GEO:00;0
LOCATION:
ORGANIZER:
SEQUENCE:1
SUMMARY:Rembrandtkwartier Alkmaar
TRANSP:OPAQUE
URL:https://straatrommelmarkten.nl/archief/498-rembrandtkwartier-alkmaar-2
END:VEVENT
END:VCALENDAR
