BEGIN:VCALENDAR
VERSION:2.0
PRODID:-//Straatrommelmarkten in Alkmaar en andere plaatsen//NONSGML kigkon
 sult.se iCalcreator 2.30.10//
CALSCALE:GREGORIAN
METHOD:PUBLISH
UID:223bfca2-9fdd-461a-b0c9-e553f3e8b671
X-WR-CALNAME:iCagenda
X-WR-CALDESC:Event Management Extension for Joomla!
X-WR-RELCALID:3E26604A-50F4-4449-8B3E-E4F4932D05B5
X-WR-TIMEZONE:Europe/Amsterdam
BEGIN:VTIMEZONE
TZID:Europe/Amsterdam
BEGIN:STANDARD
TZNAME:CET
DTSTART:20251026T030000
TZOFFSETFROM:+0200
TZOFFSETTO:+0100
RDATE:20261025T030000
END:STANDARD
BEGIN:DAYLIGHT
TZNAME:CEST
DTSTART:20260329T020000
TZOFFSETFROM:+0100
TZOFFSETTO:+0200
RDATE:20270328T020000
END:DAYLIGHT
END:VTIMEZONE
BEGIN:VEVENT
UID:925a03a4-12d3-4c88-b471-43e46e88ad96
DTSTAMP:20260421T113152Z
CATEGORIES:Straatrommelmarkt Alkmaar
CLASS:PUBLIC
DESCRIPTION;ALTREP="CID:<FFFF__=0ABBE548DFE235B58f9e8a93d@coffeebean.com>":
 Deelname is in principe bedoeld voor buurtbewoners. Om die reden zijn hand
 elaren niet toegestaan en geen drank en etenswaren verkoop.
DTSTART:20260406T080000Z
DTEND:20260406T130000Z
GEO:00;0
LOCATION:
ORGANIZER:
SEQUENCE:1
SUMMARY:Dukaatstraat\, Florijnstraat\, Reaalstraat\, Guldenpad\, Coppenolst
 raat
TRANSP:OPAQUE
URL:https://straatrommelmarkten.nl/archief/492-dukaatstraat-florijnstraat-r
 eaalstraat-guldenpad-coppenolstraat-2
END:VEVENT
END:VCALENDAR
