BEGIN:VCALENDAR
VERSION:2.0
PRODID:-//Straatrommelmarkten in Alkmaar en andere plaatsen//NONSGML kigkon
 sult.se iCalcreator 2.30.10//
CALSCALE:GREGORIAN
METHOD:PUBLISH
UID:f1e831ec-3ae1-4c2f-9dc8-0e5286f270de
X-WR-CALNAME:iCagenda
X-WR-CALDESC:Event Management Extension for Joomla!
X-WR-RELCALID:3E26604A-50F4-4449-8B3E-E4F4932D05B5
X-WR-TIMEZONE:Europe/Amsterdam
BEGIN:VTIMEZONE
TZID:Europe/Amsterdam
BEGIN:STANDARD
TZNAME:CET
DTSTART:20231029T030000
TZOFFSETFROM:+0200
TZOFFSETTO:+0100
RDATE:20241027T030000
RDATE:20251026T030000
END:STANDARD
BEGIN:DAYLIGHT
TZNAME:CEST
DTSTART:20240331T020000
TZOFFSETFROM:+0100
TZOFFSETTO:+0200
RDATE:20250330T020000
END:DAYLIGHT
END:VTIMEZONE
BEGIN:VEVENT
UID:c29a30da-fb48-415d-bdd2-265547f4d70d
DTSTAMP:20260421T132135Z
CATEGORIES:Straatrommelmarkt Alkmaar
CLASS:PUBLIC
DESCRIPTION;ALTREP="CID:<FFFF__=0ABBE548DFE235B58f9e8a93d@coffeebean.com>":
 Rommelmarkt in Stetwaard Sluiswaard en Stikkelwaard\, kom gezellig kijken 
 of er nog iets voor je tussen ligt.
DTSTART:20240922T070000Z
DTEND:20240922T120000Z
GEO:00;0
LOCATION:
ORGANIZER;CN=:n.sier70@gmail.com
SEQUENCE:1
SUMMARY:Stetwaard sluiswaard stikkelwaard
TRANSP:OPAQUE
URL:https://straatrommelmarkten.nl/archief/436-stetwaard-sluiswaard-stikkel
 waard
END:VEVENT
END:VCALENDAR
