BEGIN:VCALENDAR
VERSION:2.0
PRODID:-//Straatrommelmarkten in Alkmaar en andere plaatsen//NONSGML kigkon
 sult.se iCalcreator 2.30.10//
CALSCALE:GREGORIAN
METHOD:PUBLISH
UID:d2db4b35-f568-4c74-8fcd-2e4ef0cfa467
X-WR-CALNAME:iCagenda
X-WR-CALDESC:Event Management Extension for Joomla!
X-WR-RELCALID:3E26604A-50F4-4449-8B3E-E4F4932D05B5
X-WR-TIMEZONE:Europe/Amsterdam
BEGIN:VTIMEZONE
TZID:Europe/Amsterdam
BEGIN:STANDARD
TZNAME:CET
DTSTART:20231029T030000
TZOFFSETFROM:+0200
TZOFFSETTO:+0100
RDATE:20241027T030000
RDATE:20251026T030000
END:STANDARD
BEGIN:DAYLIGHT
TZNAME:CEST
DTSTART:20240331T020000
TZOFFSETFROM:+0100
TZOFFSETTO:+0200
RDATE:20250330T020000
END:DAYLIGHT
END:VTIMEZONE
BEGIN:VEVENT
UID:d1d4cb1c-7d6d-45fb-b24f-d1e1ba626774
DTSTAMP:20260421T085120Z
CATEGORIES:Straatrommelmarkt Alkmaar
CLASS:PUBLIC
DESCRIPTION;ALTREP="CID:<FFFF__=0ABBE548DFE235B58f9e8a93d@coffeebean.com>":
 Een nieuwe rommelmarkt in Vroonermeer Noord. Zondag 8 september 2024 van 9
 .00 tot 16.00 uur.\nStraten die meedoen zijn:\n\nCatshoek\nPotakker\nMidde
 nakker \nMelksloot\nKerksloot\nPoel\n\nHierbij nodigen we jullie uit om ge
 zellig te komen snuffelen!
DTSTART:20240908T070000Z
DTEND:20240908T140000Z
GEO:00;0
LOCATION:
ORGANIZER;CN=:vroonermeer.nrd@gmail.com
SEQUENCE:1
SUMMARY:Catshoek\, Potakker\, Middenakker\, Melksloot\, Kerksloot\, Poel
TRANSP:OPAQUE
URL:https://straatrommelmarkten.nl/archief/429-catshoek-potakker-middenakke
 r-melksloot-kerskloot-poel
END:VEVENT
END:VCALENDAR
