BEGIN:VCALENDAR
VERSION:2.0
PRODID:-//Straatrommelmarkten in Alkmaar en andere plaatsen//NONSGML kigkon
 sult.se iCalcreator 2.30.10//
CALSCALE:GREGORIAN
METHOD:PUBLISH
UID:1fad04aa-4d65-4eda-81c3-5d645cff57a2
X-WR-CALNAME:iCagenda
X-WR-CALDESC:Event Management Extension for Joomla!
X-WR-RELCALID:3E26604A-50F4-4449-8B3E-E4F4932D05B5
X-WR-TIMEZONE:Europe/Amsterdam
BEGIN:VTIMEZONE
TZID:Europe/Amsterdam
BEGIN:STANDARD
TZNAME:CET
DTSTART:20231029T030000
TZOFFSETFROM:+0200
TZOFFSETTO:+0100
RDATE:20241027T030000
RDATE:20251026T030000
END:STANDARD
BEGIN:DAYLIGHT
TZNAME:CEST
DTSTART:20240331T020000
TZOFFSETFROM:+0100
TZOFFSETTO:+0200
RDATE:20250330T020000
END:DAYLIGHT
END:VTIMEZONE
BEGIN:VEVENT
UID:914fc399-e265-4af0-ac4d-37a25c8c50d8
DTSTAMP:20260421T133234Z
CATEGORIES:Straatrommelmarkt Alkmaar
CLASS:PUBLIC
DESCRIPTION;ALTREP="CID:<FFFF__=0ABBE548DFE235B58f9e8a93d@coffeebean.com>":
 Zeer gezellige rommelmarkt over de gehele rietdekkerstraat! Voor iedereen 
 wat te vinden! Ook welkom om een plekje uit te kiezen voor u eigen verkoop
 . \nAntiek- kleding- speelgoed- huisraad
DTSTART:20240706T080000Z
DTEND:20240706T130000Z
GEO:00;0
LOCATION:
ORGANIZER;CN=:Reuze-reuzen@hotmail.com
SEQUENCE:1
SUMMARY:Rietdekkerstraat
TRANSP:OPAQUE
URL:https://straatrommelmarkten.nl/archief/410-rietdekkerstraat-2
END:VEVENT
END:VCALENDAR
