BEGIN:VCALENDAR
VERSION:2.0
PRODID:-//Straatrommelmarkten in Alkmaar en andere plaatsen//NONSGML kigkon
 sult.se iCalcreator 2.30.10//
CALSCALE:GREGORIAN
METHOD:PUBLISH
UID:258f84d9-d20d-4616-8ca8-a6820a656dbd
X-WR-CALNAME:iCagenda
X-WR-CALDESC:Event Management Extension for Joomla!
X-WR-RELCALID:3E26604A-50F4-4449-8B3E-E4F4932D05B5
X-WR-TIMEZONE:Europe/Amsterdam
BEGIN:VTIMEZONE
TZID:Europe/Amsterdam
BEGIN:STANDARD
TZNAME:CET
DTSTART:20231029T030000
TZOFFSETFROM:+0200
TZOFFSETTO:+0100
RDATE:20241027T030000
RDATE:20251026T030000
END:STANDARD
BEGIN:DAYLIGHT
TZNAME:CEST
DTSTART:20240331T020000
TZOFFSETFROM:+0100
TZOFFSETTO:+0200
RDATE:20250330T020000
END:DAYLIGHT
END:VTIMEZONE
BEGIN:VEVENT
UID:8355b7a3-bb61-4fbe-962b-530f4909f817
DTSTAMP:20260421T132318Z
CATEGORIES:Straatrommelmarkt Alkmaar
CLASS:PUBLIC
DESCRIPTION;ALTREP="CID:<FFFF__=0ABBE548DFE235B58f9e8a93d@coffeebean.com>":
 Op zoek naar mooie spullen? Kom naar de gezelligste Rommelmarkt van Alkmaa
 r: De Spoorbuurtse Struinerij!
DTSTART:20240915T080000Z
DTEND:20240915T130000Z
GEO:00;0
LOCATION:
ORGANIZER;CN=:mariskaenamir@gmail.com
SEQUENCE:1
SUMMARY:Snaarmanslaan\, Spoorstraat\, Belloplein\, Druivenlaan\, Tuinstraat
TRANSP:OPAQUE
URL:https://straatrommelmarkten.nl/archief/405-spoor-buurt-alkmaar
END:VEVENT
END:VCALENDAR
